BEGIN:VCALENDAR
VERSION:2.0
PRODID:-//SUNsource - ECPv6.15.20//NONSGML v1.0//EN
CALSCALE:GREGORIAN
METHOD:PUBLISH
X-ORIGINAL-URL:https://www.sunsource.io
X-WR-CALDESC:Events for SUNsource
REFRESH-INTERVAL;VALUE=DURATION:PT1H
X-Robots-Tag:noindex
X-PUBLISHED-TTL:PT1H
BEGIN:VTIMEZONE
TZID:America/Chicago
BEGIN:DAYLIGHT
TZOFFSETFROM:-0600
TZOFFSETTO:-0500
TZNAME:CDT
DTSTART:20200308T080000
END:DAYLIGHT
BEGIN:STANDARD
TZOFFSETFROM:-0500
TZOFFSETTO:-0600
TZNAME:CST
DTSTART:20201101T070000
END:STANDARD
BEGIN:DAYLIGHT
TZOFFSETFROM:-0600
TZOFFSETTO:-0500
TZNAME:CDT
DTSTART:20210314T080000
END:DAYLIGHT
BEGIN:STANDARD
TZOFFSETFROM:-0500
TZOFFSETTO:-0600
TZNAME:CST
DTSTART:20211107T070000
END:STANDARD
BEGIN:DAYLIGHT
TZOFFSETFROM:-0600
TZOFFSETTO:-0500
TZNAME:CDT
DTSTART:20220313T080000
END:DAYLIGHT
BEGIN:STANDARD
TZOFFSETFROM:-0500
TZOFFSETTO:-0600
TZNAME:CST
DTSTART:20221106T070000
END:STANDARD
END:VTIMEZONE
BEGIN:VEVENT
DTSTART;TZID=America/Chicago:20210317T090000
DTEND;TZID=America/Chicago:20210317T094500
DTSTAMP:20260424T141003
CREATED:20201113T170142Z
LAST-MODIFIED:20210221T032249Z
UID:18172-1615971600-1615974300@www.sunsource.io
SUMMARY:SUNsource: Super User Leader Monthly Forum
DESCRIPTION:These monthly Super User Leader Forums provide an ongoing opportunity for Super User Leaders to connect and learn about relevant topics.\n\n\nThe purpose of this Super User Leader Forum is to connect Super User Leaders with each other for ongoing networking and sharing of best practices\, lessons learned\, and anything between! \nForum connection info \n\nhttps://zoom.us/j/92242609526 \nMeeting ID: 922 4260 9526\nOne tap mobile +13462487799\,\,92242609526# \nIf needed\, find your local number: https://zoom.us/u/adve5oRkPI\n\nTimes 9:00am – 9:45am Central \nTopics & Moderators by Date:\n\nFebruary 17\, 2021 Topic:  The importance of building psychological safety and trust in your team. (Moderator =  Ginger Luttrell)\nMarch 17\, 2021 Topic:  TBD (Moderator =  TBD)\nApril 21\, 2021 Topic:  TBD (Moderator =  TBD)\nMay 19\, 2021 Topic:  TBD (Moderator =  TBD)\nJune 16\, 2021 Topic:  TBD (Moderator =  TBD)\nJuly 21\, 2021 Topic:  TBD (Moderator =  TBD)\nAugust 18\, 2021 Topic:  TBD (Moderator =  TBD)\nSeptember 15\, 2021 Topic:  TBD (Moderator =  TBD)\nOctober 20\, 2021 Topic:  TBD (Moderator =  TBD)\nNovember 17\, 2021 Topic:  TBD (Moderator =  TBD)\nDecember 15\, 2021 Topic:  TBD (Moderator =  TBD)\n\nPast Forums  (listen https://www.sunsource.io/monthly-leader-forum/ ) \n\nNovember 20\, 2019 Topic: Top Challenges to SUN Sustainment (Moderator = Gus Lopes\, Super User Leader @ Apex Tool Group\, SUNsource Leader Board Member) \nDecember 18\, 2019 Topic: Best Practices for “off-boarding” super users  (Moderator = Diego Alvarado\, Super User Owner @ CMI\, SUNsource Leader Board Member))\nJanuary 15\, 2020 Topic: How to create a SUN for a common system but across multiple organizations on different companies (Moderator = Laila Pessoa\, SUNsource Leader Board Member))\nFebruary 27\, 2020 Topic: A Super User Network is needed in every company. If you have one that fell apart or one that is currently struggling\, it’s the execution that’s suspect and not the concept.  Let’s discuss. (Moderator = Ginger Luttrell)\nMarch 18\, 2020 Topic: Ending Homelessness was the goal: A case story that brought users from various organizations to revolutionize and achieve this one common goal.  Learn how a Super User structure supported this goal.               (Moderator = Padma Thangaraj)\nApril 15\, 2020 Topic: Applying People Analytics to Boost your Super User Network (Moderator = Diego Alvarado\, Super User Program Manager @ CMI\, SUNsource Leader Board Member)  Description: From data\, to insights and actions! Join us to hear from an actual case study where an Organizational Network Analysis was used as an enabler to support the ongoing super user program in a multi-industry corporation.\nMay 20\, 2020 Topic: HPE is embarking upon a business transformation program and is working to leverage Super Users and other management of change principles to achieve business value\, greater efficiency\, and reduced IT support costs. Join us to hear the approach HPE is taking to ramp up their Super User team and gain leadership support for the initiatives.  (Moderator = Julie Fawdington\, Director of MOC\, Communications and Employee Engagement at HPE)\nJune 16\, 2020 Topic: How Super User Leaders are engaging Super Users during remote working conditions and other productivity challenges and tips. (Moderator = Ginger Luttrell)\nJuly 15\, 2020 Topic: Why IT  and the business cares that a SUN survives and thrives beyond a project + SUNsource Membership Transformation – don’t miss out on this exciting change and limited membership (Moderator = Ginger Luttrell)\nAugust 19\, 2020 Topic: Recruiting Super Users + Sneak Peek at the transformed member community for Super User Leaders.  Woohoo\, you do not want to miss this!!!  (Moderator = Ginger)\nSeptember 16\, 2020 Topic: Making Your SUN Permanent ;  Description: Nothing is for sure these days. But there are ways to help assure that your Super User Network thrives well into the future. Join us to learn what we are doing at Patterson Companies to make our Super User Network permanent.(Moderator = Bryan Kelly\, Super User Program Specialist\, Patterson Companies)\nOctober 21\, 2020 Topic: The Role of the Super User Leader (Moderator = Ginger Luttrell)\nNovember 18\, 2020 Topic:  Taking charge of your meetings like a rockstar! (Session Leader = Amber Christian)\nDecember 16\, 2020 Topic:  What system authorizations do  Super Users need to support their users\, and are they getting it.  (Moderator =  Ginger Luttrell)\nJanuary 20\, 2021 Topic:  Should Super Users support more than just their ERP system? (Moderator =  Ginger Luttrell)
URL:https://www.sunsource.io/event/sunsource-super-user-leader-monthly-forum-14/
ATTACH;FMTTYPE=image/jpeg:https://www.sunsource.io/wp-content/uploads/2020/12/f8a5f4d313b0c7da0d20caf2d13e66a3-cLjg7n.tmp_.jpg
END:VEVENT
END:VCALENDAR