BEGIN:VCALENDAR
VERSION:2.0
PRODID:-//SUNsource - ECPv6.15.20//NONSGML v1.0//EN
CALSCALE:GREGORIAN
METHOD:PUBLISH
X-WR-CALNAME:SUNsource
X-ORIGINAL-URL:https://www.sunsource.io
X-WR-CALDESC:Events for SUNsource
REFRESH-INTERVAL;VALUE=DURATION:PT1H
X-Robots-Tag:noindex
X-PUBLISHED-TTL:PT1H
BEGIN:VTIMEZONE
TZID:America/Chicago
BEGIN:DAYLIGHT
TZOFFSETFROM:-0600
TZOFFSETTO:-0500
TZNAME:CDT
DTSTART:20190310T080000
END:DAYLIGHT
BEGIN:STANDARD
TZOFFSETFROM:-0500
TZOFFSETTO:-0600
TZNAME:CST
DTSTART:20191103T070000
END:STANDARD
BEGIN:DAYLIGHT
TZOFFSETFROM:-0600
TZOFFSETTO:-0500
TZNAME:CDT
DTSTART:20200308T080000
END:DAYLIGHT
BEGIN:STANDARD
TZOFFSETFROM:-0500
TZOFFSETTO:-0600
TZNAME:CST
DTSTART:20201101T070000
END:STANDARD
BEGIN:DAYLIGHT
TZOFFSETFROM:-0600
TZOFFSETTO:-0500
TZNAME:CDT
DTSTART:20210314T080000
END:DAYLIGHT
BEGIN:STANDARD
TZOFFSETFROM:-0500
TZOFFSETTO:-0600
TZNAME:CST
DTSTART:20211107T070000
END:STANDARD
END:VTIMEZONE
BEGIN:VEVENT
DTSTART;TZID=America/Chicago:20200227T090000
DTEND;TZID=America/Chicago:20200227T094500
DTSTAMP:20260425T071147
CREATED:20200212T164925Z
LAST-MODIFIED:20200212T175855Z
UID:17591-1582794000-1582796700@www.sunsource.io
SUMMARY:SUNsource: Super User Leader Monthly Forum
DESCRIPTION:The purpose of this Super User Leader Forum is to connect Super User Leaders with each other for ongoing networking and sharing of best practices\, lessons learned\, and anything between! Forum connection info https://zoom.us/j/484679560Meeting ID: 484 679 560One tap mobile +17207072699\,\,484679560#If needed\, find your local number: https://zoom.us/u/adve5oRkPITimes 9:00am – 9:45am Central Topics & Moderators by Date: February 27\, 2020 Topic: A Super User Network is needed in every company. If you have one that fell apart or one that is currently struggling\, it’s the execution that’s suspect and not the concept.  Let’s discuss. (Moderator = Ginger Luttrell)March 18\, 2020 Topic: Ending Homelessness was the goal: A case story that brought users from various organizations to revolutionize and achieve this one common goal.  Learn how a Super User structure supported this goal.               (Moderator = Padma Thangaraj)April 15\, 2020 Topic: TBD (Moderator = TBD)May 20\, 2020 Topic: TBD (Moderator = TBD)June 17\, 2020 Topic: TBD (Moderator = TBD) Past Forums November 20\, 2019 Topic: Top Challenges to SUN Sustainment (Moderator = Gus Lopes\, Super User Leader @ Apex Tool Group\, SUNsource Leader Board Member) – listen to the recordingDecember 18\, 2019 Topic: Best Practices for “off-boarding” super users  (Moderator = Diego Alvarado\, Super User Owner @ CMI\, SUNsource Leader Board Member))January 15\, 2020 Topic: How to create a SUN for a common system but across multiple organizations on different companies (Moderator = Laila Pessoa\, SUNsource Leader Board Member))
URL:https://www.sunsource.io/event/sunsource-super-user-leader-monthly-forum/
ATTACH;FMTTYPE=image/jpeg:https://www.sunsource.io/wp-content/uploads/2020/02/c2bd2b2a89a1d3bad59d70d5f86ea123-scaled.jpg
END:VEVENT
END:VCALENDAR